Package: sangerseqR Version: 1.28.0 Command: C:\Users\biocbuild\bbs-3.13-bioc\R\bin\R.exe CMD check --force-multiarch --install=check:sangerseqR.install-out.txt --library=C:\Users\biocbuild\bbs-3.13-bioc\R\library --no-vignettes --timings sangerseqR_1.28.0.tar.gz StartedAt: 2021-10-15 05:03:12 -0400 (Fri, 15 Oct 2021) EndedAt: 2021-10-15 05:06:28 -0400 (Fri, 15 Oct 2021) EllapsedTime: 195.9 seconds RetCode: 0 Status: OK CheckDir: sangerseqR.Rcheck Warnings: 0