Package: sangerseqR Version: 1.28.0 Command: C:\cygwin\bin\curl.exe -O http://155.52.207.165/BBS/3.13/bioc/src/contrib/sangerseqR_1.28.0.tar.gz && rm -rf sangerseqR.buildbin-libdir && mkdir sangerseqR.buildbin-libdir && C:\Users\biocbuild\bbs-3.13-bioc\R\bin\R.exe CMD INSTALL --merge-multiarch --build --library=sangerseqR.buildbin-libdir sangerseqR_1.28.0.tar.gz && C:\Users\biocbuild\bbs-3.13-bioc\R\bin\R.exe CMD INSTALL sangerseqR_1.28.0.zip && rm sangerseqR_1.28.0.tar.gz sangerseqR_1.28.0.zip StartedAt: 2021-10-14 08:16:35 -0400 (Thu, 14 Oct 2021) EndedAt: 2021-10-14 08:17:55 -0400 (Thu, 14 Oct 2021) EllapsedTime: 80.8 seconds RetCode: 0 Status: OK