Package: savR Version: 1.30.0 Command: rm -rf savR.buildbin-libdir && mkdir savR.buildbin-libdir && C:\Users\biocbuild\bbs-3.13-bioc\R\bin\R.exe CMD INSTALL --merge-multiarch --build --library=savR.buildbin-libdir savR_1.30.0.tar.gz StartedAt: 2021-10-15 11:36:12 -0400 (Fri, 15 Oct 2021) EndedAt: 2021-10-15 11:37:44 -0400 (Fri, 15 Oct 2021) EllapsedTime: 92.5 seconds RetCode: 0 Status: OK PackageFile: savR_1.30.0.zip PackageFileSize: 772.9 KiB