Package: scAlign Version: 1.6.0 Command: /home/biocbuild/bbs-3.13-bioc/R/bin/R CMD build --keep-empty-dirs --no-resave-data scAlign StartedAt: 2021-10-14 08:18:26 -0400 (Thu, 14 Oct 2021) EndedAt: 2021-10-14 08:20:14 -0400 (Thu, 14 Oct 2021) EllapsedTime: 108.4 seconds RetCode: 0 Status: OK PackageFile: scAlign_1.6.0.tar.gz PackageFileSize: 851.2 KiB