Package: scAlign Version: 1.6.0 Command: /home/biocbuild/bbs-3.13-bioc/R/bin/R CMD check --install=check:scAlign.install-out.txt --library=/home/biocbuild/bbs-3.13-bioc/R/library --no-vignettes --timings scAlign_1.6.0.tar.gz StartedAt: 2021-10-14 11:28:37 -0400 (Thu, 14 Oct 2021) EndedAt: 2021-10-14 11:32:05 -0400 (Thu, 14 Oct 2021) EllapsedTime: 208.9 seconds RetCode: 0 Status: WARNINGS CheckDir: scAlign.Rcheck Warnings: 1