Package: scAlign Version: 1.6.0 Command: /home/biocbuild/bbs-3.13-bioc/R/bin/R CMD INSTALL scAlign StartedAt: 2021-10-14 06:18:14 -0400 (Thu, 14 Oct 2021) EndedAt: 2021-10-14 06:18:42 -0400 (Thu, 14 Oct 2021) EllapsedTime: 27.8 seconds RetCode: 0 Status: OK