Package: scAlign Version: 1.6.0 Command: rm -rf scAlign.buildbin-libdir && mkdir scAlign.buildbin-libdir && C:\Users\biocbuild\bbs-3.13-bioc\R\bin\R.exe --arch x64 CMD INSTALL --no-multiarch --build --library=scAlign.buildbin-libdir scAlign_1.6.0.tar.gz StartedAt: 2021-10-15 11:37:02 -0400 (Fri, 15 Oct 2021) EndedAt: 2021-10-15 11:38:34 -0400 (Fri, 15 Oct 2021) EllapsedTime: 91.6 seconds RetCode: 0 Status: OK PackageFile: scAlign_1.6.0.zip PackageFileSize: 1.048 MiB