Package: scAlign Version: 1.6.0 Command: C:\Users\biocbuild\bbs-3.13-bioc\R\bin\R.exe --arch x64 CMD INSTALL --no-multiarch scAlign StartedAt: 2021-10-14 09:36:05 -0400 (Thu, 14 Oct 2021) EndedAt: 2021-10-14 09:37:15 -0400 (Thu, 14 Oct 2021) EllapsedTime: 70.2 seconds RetCode: 0 Status: OK