Package: scCB2 Version: 1.2.0 Command: rm -rf scCB2.buildbin-libdir && mkdir scCB2.buildbin-libdir && /Users/biocbuild/BBS/utils/build-universal.sh scCB2_1.2.0.tar.gz /Library/Frameworks/R.framework/Versions/Current/Resources/bin/R scCB2.buildbin-libdir StartedAt: 2021-10-15 03:53:32 -0400 (Fri, 15 Oct 2021) EndedAt: 2021-10-15 03:54:36 -0400 (Fri, 15 Oct 2021) EllapsedTime: 63.3 seconds RetCode: 0 Status: OK PackageFile: scCB2_1.2.0.tgz PackageFileSize: 882 KiB