Package: scCB2 Version: 1.2.0 Command: /home/biocbuild/bbs-3.13-bioc/R/bin/R CMD build --keep-empty-dirs --no-resave-data scCB2 StartedAt: 2021-10-14 08:18:52 -0400 (Thu, 14 Oct 2021) EndedAt: 2021-10-14 08:22:29 -0400 (Thu, 14 Oct 2021) EllapsedTime: 217.1 seconds RetCode: 0 Status: OK PackageFile: scCB2_1.2.0.tar.gz PackageFileSize: 843.8 KiB