Package: scCB2 Version: 1.2.0 Command: rm -rf scCB2.buildbin-libdir && mkdir scCB2.buildbin-libdir && C:\Users\biocbuild\bbs-3.13-bioc\R\bin\R.exe CMD INSTALL --merge-multiarch --build --library=scCB2.buildbin-libdir scCB2_1.2.0.tar.gz StartedAt: 2021-10-15 11:38:09 -0400 (Fri, 15 Oct 2021) EndedAt: 2021-10-15 11:39:40 -0400 (Fri, 15 Oct 2021) EllapsedTime: 91.3 seconds RetCode: 0 Status: OK PackageFile: scCB2_1.2.0.zip PackageFileSize: 899.3 KiB