Package: scCB2 Version: 1.2.0 Command: C:\Users\biocbuild\bbs-3.13-bioc\R\bin\R.exe CMD check --force-multiarch --install=check:scCB2.install-out.txt --library=C:\Users\biocbuild\bbs-3.13-bioc\R\library --no-vignettes --timings scCB2_1.2.0.tar.gz StartedAt: 2021-10-15 05:08:31 -0400 (Fri, 15 Oct 2021) EndedAt: 2021-10-15 05:19:50 -0400 (Fri, 15 Oct 2021) EllapsedTime: 679.1 seconds RetCode: 0 Status: OK CheckDir: scCB2.Rcheck Warnings: 0