git_url: https://git.bioconductor.org/packages/scClassifR git_branch: RELEASE_3_13 git_last_commit: 2be48cc git_last_commit_date: 2021-05-19 12:59:14 -0400 (Wed, 19 May 2021) Package: scClassifR Version: 1.0.0 Maintainer: Johannes Griss MaintainerEmail: johannes.griss at meduniwien.ac.at