Package: scClassify Version: 1.4.0 Command: rm -rf scClassify.buildbin-libdir && mkdir scClassify.buildbin-libdir && /Users/biocbuild/BBS/utils/build-universal.sh scClassify_1.4.0.tar.gz /Library/Frameworks/R.framework/Versions/Current/Resources/bin/R scClassify.buildbin-libdir StartedAt: 2021-10-15 03:53:43 -0400 (Fri, 15 Oct 2021) EndedAt: 2021-10-15 03:54:47 -0400 (Fri, 15 Oct 2021) EllapsedTime: 63.5 seconds RetCode: 0 Status: OK PackageFile: scClassify_1.4.0.tgz PackageFileSize: 3.31 MiB