Package: scClassify Version: 1.4.0 Command: /Library/Frameworks/R.framework/Versions/Current/Resources/bin/R CMD build --keep-empty-dirs --no-resave-data scClassify StartedAt: 2021-10-14 14:39:03 -0400 (Thu, 14 Oct 2021) EndedAt: 2021-10-14 14:40:59 -0400 (Thu, 14 Oct 2021) EllapsedTime: 116.6 seconds RetCode: 0 Status: OK PackageFile: scClassify_1.4.0.tar.gz PackageFileSize: 2.921 MiB