Package: scClassify Version: 1.4.0 Command: /Library/Frameworks/R.framework/Versions/Current/Resources/bin/R CMD check --install=check:scClassify.install-out.txt --library=/Library/Frameworks/R.framework/Versions/Current/Resources/library --no-vignettes --timings scClassify_1.4.0.tar.gz StartedAt: 2021-10-14 23:37:24 -0400 (Thu, 14 Oct 2021) EndedAt: 2021-10-14 23:42:45 -0400 (Thu, 14 Oct 2021) EllapsedTime: 320.8 seconds RetCode: 0 Status: OK CheckDir: scClassify.Rcheck Warnings: 0