Package: scClassify Version: 1.4.0 Command: /home/biocbuild/bbs-3.13-bioc/R/bin/R CMD INSTALL scClassify StartedAt: 2021-10-14 06:35:15 -0400 (Thu, 14 Oct 2021) EndedAt: 2021-10-14 06:35:31 -0400 (Thu, 14 Oct 2021) EllapsedTime: 15.7 seconds RetCode: 0 Status: OK