Package: scClassify Version: 1.4.0 Command: chmod a+r scClassify -R && C:\Users\biocbuild\bbs-3.13-bioc\R\bin\R.exe CMD build --keep-empty-dirs --no-resave-data scClassify StartedAt: 2021-10-14 17:56:30 -0400 (Thu, 14 Oct 2021) EndedAt: 2021-10-14 17:58:53 -0400 (Thu, 14 Oct 2021) EllapsedTime: 142.8 seconds RetCode: 0 Status: OK PackageFile: scClassify_1.4.0.tar.gz PackageFileSize: 2.837 MiB