Package: scDblFinder Version: 1.6.0 Command: rm -rf scDblFinder.buildbin-libdir && mkdir scDblFinder.buildbin-libdir && /Users/biocbuild/BBS/utils/build-universal.sh scDblFinder_1.6.0.tar.gz /Library/Frameworks/R.framework/Versions/Current/Resources/bin/R scDblFinder.buildbin-libdir StartedAt: 2021-10-15 03:53:54 -0400 (Fri, 15 Oct 2021) EndedAt: 2021-10-15 03:54:58 -0400 (Fri, 15 Oct 2021) EllapsedTime: 63.8 seconds RetCode: 0 Status: OK PackageFile: scDblFinder_1.6.0.tgz PackageFileSize: 2.451 MiB