Package: scDblFinder Version: 1.6.0 Command: /Library/Frameworks/R.framework/Versions/Current/Resources/bin/R CMD check --install=check:scDblFinder.install-out.txt --library=/Library/Frameworks/R.framework/Versions/Current/Resources/library --no-vignettes --timings scDblFinder_1.6.0.tar.gz StartedAt: 2021-10-14 23:38:11 -0400 (Thu, 14 Oct 2021) EndedAt: 2021-10-14 23:44:02 -0400 (Thu, 14 Oct 2021) EllapsedTime: 351.1 seconds RetCode: 0 Status: WARNINGS CheckDir: scDblFinder.Rcheck Warnings: 3