Package: scDblFinder Version: 1.6.0 Command: /Library/Frameworks/R.framework/Versions/Current/Resources/bin/R CMD INSTALL scDblFinder StartedAt: 2021-10-14 09:26:46 -0400 (Thu, 14 Oct 2021) EndedAt: 2021-10-14 09:27:30 -0400 (Thu, 14 Oct 2021) EllapsedTime: 44.8 seconds RetCode: 0 Status: OK