git_url: https://git.bioconductor.org/packages/scMerge git_branch: RELEASE_3_13 git_last_commit: b558998 git_last_commit_date: 2021-05-19 12:43:22 -0400 (Wed, 19 May 2021) Package: scMerge Version: 1.8.0 Maintainer: Yingxin Lin MaintainerEmail: yingxin.lin at sydney.edu.au