Package: scPCA Version: 1.6.2 Command: /home/biocbuild/bbs-3.13-bioc/R/bin/R CMD INSTALL scPCA StartedAt: 2021-10-14 06:34:10 -0400 (Thu, 14 Oct 2021) EndedAt: 2021-10-14 06:34:29 -0400 (Thu, 14 Oct 2021) EllapsedTime: 19.2 seconds RetCode: 0 Status: OK