Package: scPCA Version: 1.6.2 Command: rm -rf scPCA.buildbin-libdir && mkdir scPCA.buildbin-libdir && C:\Users\biocbuild\bbs-3.13-bioc\R\bin\R.exe CMD INSTALL --merge-multiarch --build --library=scPCA.buildbin-libdir scPCA_1.6.2.tar.gz StartedAt: 2021-10-15 11:41:32 -0400 (Fri, 15 Oct 2021) EndedAt: 2021-10-15 11:43:03 -0400 (Fri, 15 Oct 2021) EllapsedTime: 90.8 seconds RetCode: 0 Status: OK PackageFile: scPCA_1.6.2.zip PackageFileSize: 925.2 KiB