Package: scPCA Version: 1.6.2 Command: C:\Users\biocbuild\bbs-3.13-bioc\R\bin\R.exe CMD check --force-multiarch --install=check:scPCA.install-out.txt --library=C:\Users\biocbuild\bbs-3.13-bioc\R\library --no-vignettes --timings scPCA_1.6.2.tar.gz StartedAt: 2021-10-15 05:19:58 -0400 (Fri, 15 Oct 2021) EndedAt: 2021-10-15 05:24:26 -0400 (Fri, 15 Oct 2021) EllapsedTime: 267.8 seconds RetCode: 0 Status: OK CheckDir: scPCA.Rcheck Warnings: 0