Package: scRecover Version: 1.8.0 Command: /home/biocbuild/bbs-3.13-bioc/R/bin/R CMD check --install=check:scRecover.install-out.txt --library=/home/biocbuild/bbs-3.13-bioc/R/library --no-vignettes --timings scRecover_1.8.0.tar.gz StartedAt: 2021-10-14 11:32:23 -0400 (Thu, 14 Oct 2021) EndedAt: 2021-10-14 11:34:30 -0400 (Thu, 14 Oct 2021) EllapsedTime: 127.0 seconds RetCode: 0 Status: OK CheckDir: scRecover.Rcheck Warnings: 0