Package: scTGIF Version: 1.6.0 Command: rm -rf scTGIF.buildbin-libdir && mkdir scTGIF.buildbin-libdir && /Users/biocbuild/BBS/utils/build-universal.sh scTGIF_1.6.0.tar.gz /Library/Frameworks/R.framework/Versions/Current/Resources/bin/R scTGIF.buildbin-libdir StartedAt: 2021-10-15 03:56:24 -0400 (Fri, 15 Oct 2021) EndedAt: 2021-10-15 03:57:18 -0400 (Fri, 15 Oct 2021) EllapsedTime: 53.5 seconds RetCode: 0 Status: OK PackageFile: scTGIF_1.6.0.tgz PackageFileSize: 2 MiB