Package: scTGIF Version: 1.6.0 Command: /Library/Frameworks/R.framework/Versions/Current/Resources/bin/R CMD check --install=check:scTGIF.install-out.txt --library=/Library/Frameworks/R.framework/Versions/Current/Resources/library --no-vignettes --timings scTGIF_1.6.0.tar.gz StartedAt: 2021-10-14 23:48:35 -0400 (Thu, 14 Oct 2021) EndedAt: 2021-10-14 23:54:51 -0400 (Thu, 14 Oct 2021) EllapsedTime: 376.1 seconds RetCode: 0 Status: OK CheckDir: scTGIF.Rcheck Warnings: 0