Package: scTHI Version: 1.4.0 Command: rm -rf scTHI.buildbin-libdir && mkdir scTHI.buildbin-libdir && /Users/biocbuild/BBS/utils/build-universal.sh scTHI_1.4.0.tar.gz /Library/Frameworks/R.framework/Versions/Current/Resources/bin/R scTHI.buildbin-libdir StartedAt: 2021-10-15 03:56:29 -0400 (Fri, 15 Oct 2021) EndedAt: 2021-10-15 03:57:23 -0400 (Fri, 15 Oct 2021) EllapsedTime: 53.9 seconds RetCode: 0 Status: OK PackageFile: scTHI_1.4.0.tgz PackageFileSize: 682 KiB