Package: scTHI Version: 1.4.0 Command: C:\cygwin\bin\curl.exe -O http://155.52.207.165/BBS/3.13/bioc/src/contrib/scTHI_1.4.0.tar.gz && rm -rf scTHI.buildbin-libdir && mkdir scTHI.buildbin-libdir && C:\Users\biocbuild\bbs-3.13-bioc\R\bin\R.exe CMD INSTALL --merge-multiarch --build --library=scTHI.buildbin-libdir scTHI_1.4.0.tar.gz && C:\Users\biocbuild\bbs-3.13-bioc\R\bin\R.exe CMD INSTALL scTHI_1.4.0.zip && rm scTHI_1.4.0.tar.gz scTHI_1.4.0.zip StartedAt: 2021-10-14 07:19:34 -0400 (Thu, 14 Oct 2021) EndedAt: 2021-10-14 07:20:29 -0400 (Thu, 14 Oct 2021) EllapsedTime: 54.7 seconds RetCode: 0 Status: OK