Package: scde Version: 2.20.0 Command: /home/biocbuild/bbs-3.13-bioc/R/bin/R CMD INSTALL scde StartedAt: 2021-10-14 06:06:11 -0400 (Thu, 14 Oct 2021) EndedAt: 2021-10-14 06:07:06 -0400 (Thu, 14 Oct 2021) EllapsedTime: 54.9 seconds RetCode: 0 Status: OK