Package: scds Version: 1.8.0 Command: /Library/Frameworks/R.framework/Versions/Current/Resources/bin/R CMD build --keep-empty-dirs --no-resave-data scds StartedAt: 2021-10-14 14:40:40 -0400 (Thu, 14 Oct 2021) EndedAt: 2021-10-14 14:42:43 -0400 (Thu, 14 Oct 2021) EllapsedTime: 123.8 seconds RetCode: 0 Status: OK PackageFile: scds_1.8.0.tar.gz PackageFileSize: 1.355 MiB