Package: scds Version: 1.8.0 Command: /Library/Frameworks/R.framework/Versions/Current/Resources/bin/R CMD check --install=check:scds.install-out.txt --library=/Library/Frameworks/R.framework/Versions/Current/Resources/library --no-vignettes --timings scds_1.8.0.tar.gz StartedAt: 2021-10-14 23:38:35 -0400 (Thu, 14 Oct 2021) EndedAt: 2021-10-14 23:42:22 -0400 (Thu, 14 Oct 2021) EllapsedTime: 226.2 seconds RetCode: 0 Status: OK CheckDir: scds.Rcheck Warnings: 0