Package: scds Version: 1.8.0 Command: /home/biocbuild/bbs-3.13-bioc/R/bin/R CMD build --keep-empty-dirs --no-resave-data scds StartedAt: 2021-10-14 08:19:27 -0400 (Thu, 14 Oct 2021) EndedAt: 2021-10-14 08:20:47 -0400 (Thu, 14 Oct 2021) EllapsedTime: 80.1 seconds RetCode: 0 Status: OK PackageFile: scds_1.8.0.tar.gz PackageFileSize: 1.354 MiB