Package: schex Version: 1.6.3 Command: /home/biocbuild/bbs-3.13-bioc/R/bin/R CMD INSTALL schex StartedAt: 2021-10-14 06:21:27 -0400 (Thu, 14 Oct 2021) EndedAt: 2021-10-14 06:21:53 -0400 (Thu, 14 Oct 2021) EllapsedTime: 26.0 seconds RetCode: 0 Status: OK