Package: schex Version: 1.6.3 Command: chmod a+r schex -R && C:\Users\biocbuild\bbs-3.13-bioc\R\bin\R.exe CMD build --keep-empty-dirs --no-resave-data schex StartedAt: 2021-10-14 17:59:17 -0400 (Thu, 14 Oct 2021) EndedAt: 2021-10-14 18:01:58 -0400 (Thu, 14 Oct 2021) EllapsedTime: 161.5 seconds RetCode: 0 Status: OK PackageFile: schex_1.6.3.tar.gz PackageFileSize: 4.18 MiB