Package: scmeth Version: 1.12.0 Command: /Library/Frameworks/R.framework/Versions/Current/Resources/bin/R CMD build --keep-empty-dirs --no-resave-data scmeth StartedAt: 2021-10-14 14:44:05 -0400 (Thu, 14 Oct 2021) EndedAt: 2021-10-14 14:46:17 -0400 (Thu, 14 Oct 2021) EllapsedTime: 132.1 seconds RetCode: 0 Status: OK PackageFile: scmeth_1.12.0.tar.gz PackageFileSize: 863.7 KiB