Package: scmeth Version: 1.12.0 Command: /Library/Frameworks/R.framework/Versions/Current/Resources/bin/R CMD INSTALL scmeth StartedAt: 2021-10-14 10:19:45 -0400 (Thu, 14 Oct 2021) EndedAt: 2021-10-14 10:21:05 -0400 (Thu, 14 Oct 2021) EllapsedTime: 79.6 seconds RetCode: 0 Status: OK