Package: scmeth Version: 1.12.0 Command: chmod a+r scmeth -R && C:\Users\biocbuild\bbs-3.13-bioc\R\bin\R.exe CMD build --keep-empty-dirs --no-resave-data scmeth StartedAt: 2021-10-14 18:01:42 -0400 (Thu, 14 Oct 2021) EndedAt: 2021-10-14 18:03:43 -0400 (Thu, 14 Oct 2021) EllapsedTime: 120.8 seconds RetCode: 0 Status: OK PackageFile: scmeth_1.12.0.tar.gz PackageFileSize: 836.1 KiB