Package: scp Version: 1.2.0 Command: /home/biocbuild/bbs-3.13-bioc/R/bin/R CMD build --keep-empty-dirs --no-resave-data scp StartedAt: 2021-10-14 08:21:45 -0400 (Thu, 14 Oct 2021) EndedAt: 2021-10-14 08:24:18 -0400 (Thu, 14 Oct 2021) EllapsedTime: 152.3 seconds RetCode: 0 Status: OK PackageFile: scp_1.2.0.tar.gz PackageFileSize: 1.299 MiB