Package: sechm Version: 1.0.0 Command: rm -rf sechm.buildbin-libdir && mkdir sechm.buildbin-libdir && C:\Users\biocbuild\bbs-3.13-bioc\R\bin\R.exe CMD INSTALL --merge-multiarch --build --library=sechm.buildbin-libdir sechm_1.0.0.tar.gz StartedAt: 2021-10-15 11:43:11 -0400 (Fri, 15 Oct 2021) EndedAt: 2021-10-15 11:44:10 -0400 (Fri, 15 Oct 2021) EllapsedTime: 59.2 seconds RetCode: 0 Status: OK PackageFile: sechm_1.0.0.zip PackageFileSize: 589.8 KiB