Package: sechm Version: 1.0.0 Command: chmod a+r sechm -R && C:\Users\biocbuild\bbs-3.13-bioc\R\bin\R.exe CMD build --keep-empty-dirs --no-resave-data sechm StartedAt: 2021-10-14 18:07:02 -0400 (Thu, 14 Oct 2021) EndedAt: 2021-10-14 18:08:19 -0400 (Thu, 14 Oct 2021) EllapsedTime: 76.9 seconds RetCode: 0 Status: OK PackageFile: sechm_1.0.0.tar.gz PackageFileSize: 525 KiB