Package: sechm Version: 1.0.0 Command: C:\cygwin\bin\curl.exe -O http://155.52.207.165/BBS/3.13/bioc/src/contrib/sechm_1.0.0.tar.gz && rm -rf sechm.buildbin-libdir && mkdir sechm.buildbin-libdir && C:\Users\biocbuild\bbs-3.13-bioc\R\bin\R.exe CMD INSTALL --merge-multiarch --build --library=sechm.buildbin-libdir sechm_1.0.0.tar.gz && C:\Users\biocbuild\bbs-3.13-bioc\R\bin\R.exe CMD INSTALL sechm_1.0.0.zip && rm sechm_1.0.0.tar.gz sechm_1.0.0.zip StartedAt: 2021-10-14 08:59:36 -0400 (Thu, 14 Oct 2021) EndedAt: 2021-10-14 09:00:45 -0400 (Thu, 14 Oct 2021) EllapsedTime: 69.0 seconds RetCode: 0 Status: OK