Package: selectKSigs Version: 1.4.0 Command: rm -rf selectKSigs.buildbin-libdir && mkdir selectKSigs.buildbin-libdir && /Users/biocbuild/BBS/utils/build-universal.sh selectKSigs_1.4.0.tar.gz /Library/Frameworks/R.framework/Versions/Current/Resources/bin/R selectKSigs.buildbin-libdir StartedAt: 2021-10-15 03:56:56 -0400 (Fri, 15 Oct 2021) EndedAt: 2021-10-15 03:57:55 -0400 (Fri, 15 Oct 2021) EllapsedTime: 58.8 seconds RetCode: 0 Status: OK PackageFile: selectKSigs_1.4.0.tgz PackageFileSize: 446.4 KiB