Package: selectKSigs Version: 1.4.0 Command: /home/biocbuild/bbs-3.13-bioc/R/bin/R CMD check --install=check:selectKSigs.install-out.txt --library=/home/biocbuild/bbs-3.13-bioc/R/library --no-vignettes --timings selectKSigs_1.4.0.tar.gz StartedAt: 2021-10-14 11:34:01 -0400 (Thu, 14 Oct 2021) EndedAt: 2021-10-14 11:35:37 -0400 (Thu, 14 Oct 2021) EllapsedTime: 96.4 seconds RetCode: 0 Status: OK CheckDir: selectKSigs.Rcheck Warnings: 0