Package: seq2pathway Version: 1.24.0 Command: /Library/Frameworks/R.framework/Versions/Current/Resources/bin/R CMD check --install=check:seq2pathway.install-out.txt --library=/Library/Frameworks/R.framework/Versions/Current/Resources/library --no-vignettes --timings seq2pathway_1.24.0.tar.gz StartedAt: 2021-10-14 23:52:22 -0400 (Thu, 14 Oct 2021) EndedAt: 2021-10-14 23:57:20 -0400 (Thu, 14 Oct 2021) EllapsedTime: 297.7 seconds RetCode: 0 Status: WARNINGS CheckDir: seq2pathway.Rcheck Warnings: 2