git_url: https://git.bioconductor.org/packages/seqCAT git_branch: RELEASE_3_13 git_last_commit: a806d9f git_last_commit_date: 2021-10-10 11:55:09 -0400 (Sun, 10 Oct 2021) Package: seqCAT Version: 1.14.1 Maintainer: Erik Fasterius MaintainerEmail: erik.fasterius at outlook.com