Package: seqCAT Version: 1.14.1 Command: rm -rf seqCAT.buildbin-libdir && mkdir seqCAT.buildbin-libdir && /Users/biocbuild/BBS/utils/build-universal.sh seqCAT_1.14.1.tar.gz /Library/Frameworks/R.framework/Versions/Current/Resources/bin/R seqCAT.buildbin-libdir StartedAt: 2021-10-15 03:57:39 -0400 (Fri, 15 Oct 2021) EndedAt: 2021-10-15 03:58:49 -0400 (Fri, 15 Oct 2021) EllapsedTime: 70.0 seconds RetCode: 0 Status: OK PackageFile: seqCAT_1.14.1.tgz PackageFileSize: 1.909 MiB