Package: seqCAT Version: 1.14.1 Command: /Library/Frameworks/R.framework/Versions/Current/Resources/bin/R CMD build --keep-empty-dirs --no-resave-data seqCAT StartedAt: 2021-10-14 14:50:56 -0400 (Thu, 14 Oct 2021) EndedAt: 2021-10-14 14:54:19 -0400 (Thu, 14 Oct 2021) EllapsedTime: 202.9 seconds RetCode: 0 Status: OK PackageFile: seqCAT_1.14.1.tar.gz PackageFileSize: 1.844 MiB