Package: seqCAT Version: 1.14.1 Command: /Library/Frameworks/R.framework/Versions/Current/Resources/bin/R CMD check --install=check:seqCAT.install-out.txt --library=/Library/Frameworks/R.framework/Versions/Current/Resources/library --no-vignettes --timings seqCAT_1.14.1.tar.gz StartedAt: 2021-10-14 23:53:15 -0400 (Thu, 14 Oct 2021) EndedAt: 2021-10-15 00:00:07 -0400 (Fri, 15 Oct 2021) EllapsedTime: 411.7 seconds RetCode: 0 Status: OK CheckDir: seqCAT.Rcheck Warnings: 0